BEGIN:VCALENDAR
VERSION:2.0
PRODID:-//ChamberMaster//Event Calendar 2.0//EN
METHOD:PUBLISH
X-PUBLISHED-TTL:P3D
REFRESH-INTERVAL:P3D
CALSCALE:GREGORIAN
BEGIN:VEVENT
DTSTART:20200319T220000Z
DTEND:20200320T010000Z
X-MICROSOFT-CDO-ALLDAYEVENT:FALSE
SUMMARY:8th Semi-annual Chelan/Douglas Job & Resource Fair
DESCRIPTION:Business & resources will be on hand! Priority of Service for Veterans\n\nAll job seekers: Dress professionally\, be prepared to interview and bring your resume. Go to WorkSource to perfect your resume and brush up on your interviewing skills.
X-ALT-DESC;FMTTYPE=text/html:Business &amp\; resources will be on hand! Priority of Service for Veterans<br />\nAll job seekers: Dress professionally\, be prepared to interview and bring your resume. Go to WorkSource to perfect your resume and brush up on your interviewing skills.<br />\n&nbsp\;
LOCATION:Pybus Public Market\, 7 N Worthen Street\, Wenatchee\, WA 98801
UID:e.289.7613
SEQUENCE:3
DTSTAMP:20260425T033430Z
URL:https://business.wenatchee.org/events/details/8th-semi-annual-chelan-douglas-job-resource-fair-7613
END:VEVENT

END:VCALENDAR
