BEGIN:VCALENDAR
VERSION:2.0
PRODID:-//ChamberMaster//Event Calendar 2.0//EN
METHOD:PUBLISH
X-PUBLISHED-TTL:P3D
REFRESH-INTERVAL:P3D
CALSCALE:GREGORIAN
BEGIN:VEVENT
DTSTART:20190321T170000Z
DTEND:20190321T200000Z
X-MICROSOFT-CDO-ALLDAYEVENT:FALSE
SUMMARY:7th Semi-Annual Chelan/Douglas County Job & Resource Fair
DESCRIPTION:Businesses and partner/community agencies to be on hand for employment and training opportunities for veterans and job seekers in the Wenatchee Valley. Resources will be available to individuals in need of services to include housing\, medical\, food\, and/or training programs.
X-ALT-DESC;FMTTYPE=text/html:Businesses and partner/community agencies to be on hand for employment and training opportunities for veterans and job seekers in the Wenatchee Valley. Resources will be available to individuals in need of services to include housing\, medical\, food\, and/or training programs.
LOCATION:Pybus Public Market 7 N Worthen St Wenatchee\, WA 98801
UID:e.289.7172
SEQUENCE:3
DTSTAMP:20260425T232926Z
URL:https://business.wenatchee.org/events/details/7th-semi-annual-chelan-douglas-county-job-resource-fair-7172
END:VEVENT

END:VCALENDAR
