BEGIN:VCALENDAR
VERSION:2.0
PRODID:-//ChamberMaster//Event Calendar 2.0//EN
METHOD:PUBLISH
X-PUBLISHED-TTL:P3D
REFRESH-INTERVAL:P3D
CALSCALE:GREGORIAN
BEGIN:VEVENT
DTSTART;VALUE=DATE:20190615
DTEND;VALUE=DATE:20190616
TRANSP:TRANSPARENT
X-MICROSOFT-CDO-ALLDAYEVENT:TRUE
SUMMARY:75th Anniversary of Entiat
DESCRIPTION:Join us on Saturday the 15th of June at the Entiat city Park\, North End\, to celebrate the 75th Anniversary of Entiat's Incorporation. This all-day event kicks off with a $5 Pancake breakfast put on by the Entiat Firemen's Association at 9 a.m.and will be followed by a full day of festivities to feature\; a classic car and bike show\, live music\, kid's zone with inflatables\, live music\, beer garden\, BBQ\, mini golf\, corn hole\, vendors and a presentation from the city on the future of Entiat. The museum will be open for visitors\, our winners for the photo contest will be announced and a "Pup"cake walk to benefit the Wenatchee Valley Humane Society. The day events will shift over to Kiwanis Park starting at 5 p.m. for our evening closing event featuring the Wenatchee Youth Circus. Festivities will end around 9 p.m.. A free all day\, family friendly event!
X-ALT-DESC;FMTTYPE=text/html:Join us on Saturday the 15th of June at the Entiat city Park\, North End\, to celebrate the 75th Anniversary of Entiat&#39\;s Incorporation. This all-day event kicks off with a $5 Pancake breakfast put on by the Entiat Firemen&#39\;s Association at 9 a.m.and will be followed by a full day of festivities to feature\; a classic car and bike show\, live music\, kid&#39\;s zone with inflatables\, live music\, beer garden\, BBQ\, mini golf\, corn hole\, vendors and a presentation from the city on the future of Entiat. The museum will be open for visitors\, our winners for the photo contest will be announced and a &quot\;Pup&quot\;cake walk to benefit the Wenatchee Valley Humane Society. The day events will shift over to Kiwanis Park starting at 5 p.m. for our evening closing event featuring the Wenatchee Youth Circus. Festivities will end around 9 p.m.. A free all day\, family friendly event!
LOCATION:Entiat City Park Shearson St\, Entiat\, WA 98822
UID:e.289.7317
SEQUENCE:3
DTSTAMP:20260425T181847Z
URL:https://business.wenatchee.org/events/details/75th-anniversary-of-entiat-7317
END:VEVENT

END:VCALENDAR
