BEGIN:VCALENDAR
VERSION:2.0
PRODID:-//ChamberMaster//Event Calendar 2.0//EN
METHOD:PUBLISH
X-PUBLISHED-TTL:P3D
REFRESH-INTERVAL:P3D
CALSCALE:GREGORIAN
BEGIN:VEVENT
DTSTART:20190615T170000Z
DTEND:20190615T190000Z
X-MICROSOFT-CDO-ALLDAYEVENT:FALSE
SUMMARY:3rd Saturdays in the Garden family event
DESCRIPTION:Buzz through family-friendly\, science-based stations\, featuring: *WSU Entomologist Dale Whaley *A live observation hive provided by North Central Washington Beekeepers *Other fun activities with microscopes\, native bees\, pollination\, and more!
X-ALT-DESC;FMTTYPE=text/html:Buzz through family-friendly\, science-based stations\, featuring: *WSU Entomologist Dale Whaley *A live observation hive provided by North Central Washington Beekeepers *Other fun activities with microscopes\, native bees\, pollination\, and more!
LOCATION:Community Education Garden 1100 N Western Ave Wenatchee\, WA
UID:e.289.7321
SEQUENCE:3
DTSTAMP:20260425T200839Z
URL:https://business.wenatchee.org/events/details/3rd-saturdays-in-the-garden-family-event-7321
END:VEVENT

END:VCALENDAR
