BEGIN:VCALENDAR
VERSION:2.0
PRODID:-//ChamberMaster//Event Calendar 2.0//EN
METHOD:PUBLISH
X-PUBLISHED-TTL:P3D
REFRESH-INTERVAL:P3D
CALSCALE:GREGORIAN
BEGIN:VEVENT
DTSTART:20190209T180000Z
DTEND:20190209T220000Z
X-MICROSOFT-CDO-ALLDAYEVENT:FALSE
SUMMARY:3rd Annual Summer Camp Fair
DESCRIPTION:Join other parents at Pybus Market for this one-day event on Saturday\, February 9\n\nfrom 10am-2pm to learn more about summer camp programs available in North\n\nCentral Washington in 2019. Over 20 organizations will be on hand to provide\n\ninformation about a variety of summer programs and answer questions. This is\n\nyour chance to make the most of Summer 2019. Summer camp programs will\n\nrange from dance\, acting\, filmmaking\, outdoor recreation\, music\, sports\, visual\n\narts and STEM-related.\n\nSummer Camp Fair is sponsored by Icicle Creek Center for the Arts and\n\nWenatchee Mom Blog. For additional information\, contact Mike Caemmerer at\n\n509-548-6347
X-ALT-DESC;FMTTYPE=text/html:Join other parents at Pybus Market for this one-day event on Saturday\, February 9<br />\nfrom 10am-2pm to learn more about summer camp programs available in North<br />\nCentral Washington in 2019. Over 20 organizations will be on hand to provide<br />\ninformation about a variety of summer programs and answer questions. This is<br />\nyour chance to make the most of Summer 2019. Summer camp programs will<br />\nrange from dance\, acting\, filmmaking\, outdoor recreation\, music\, sports\, visual<br />\narts and STEM-related.<br />\nSummer Camp Fair is sponsored by Icicle Creek Center for the Arts and<br />\nWenatchee Mom Blog. For additional information\, contact Mike Caemmerer at<br />\n509-548-6347
LOCATION:Pybus Public Market
UID:e.289.7155
SEQUENCE:3
DTSTAMP:20260426T005522Z
URL:https://business.wenatchee.org/events/details/3rd-annual-summer-camp-fair-7155
END:VEVENT

END:VCALENDAR
