BEGIN:VCALENDAR
VERSION:2.0
PRODID:-//ChamberMaster//Event Calendar 2.0//EN
METHOD:PUBLISH
X-PUBLISHED-TTL:P3D
REFRESH-INTERVAL:P3D
CALSCALE:GREGORIAN
BEGIN:VEVENT
DTSTART:20190110T020000Z
DTEND:20190110T033000Z
X-MICROSOFT-CDO-ALLDAYEVENT:FALSE
SUMMARY:3D Printing Workshop
DESCRIPTION:Learn how to use Tinkercad 3D design software! A short introduction and lesson will be followed by designing time. You will get to design one 3D object at each class which will be printed at a later time using the Wenatchee Public Library's 3D printer. Participants must be at least 13 years of age. Participants younger than 13 MUST be accompanied by an adult. Register at ncrl.org/wenatchee
X-ALT-DESC;FMTTYPE=text/html:Learn how to use Tinkercad 3D design software! A short introduction and lesson will be followed by designing time. You will get to design one 3D object at each class which will be printed at a later time using the Wenatchee Public Library&#39\;s 3D printer. Participants must be at least 13 years of age. Participants younger than 13 MUST be accompanied by an adult. Register at ncrl.org/wenatchee
LOCATION:Wenatchee Public Library 310 Douglas Street Wenatchee\, WA 98801
UID:e.289.7037
SEQUENCE:3
DTSTAMP:20260426T025357Z
URL:https://business.wenatchee.org/events/details/3d-printing-workshop-01-09-2019-7037
END:VEVENT

END:VCALENDAR
