BEGIN:VCALENDAR
VERSION:2.0
PRODID:-//ChamberMaster//Event Calendar 2.0//EN
METHOD:PUBLISH
X-PUBLISHED-TTL:P3D
REFRESH-INTERVAL:P3D
CALSCALE:GREGORIAN
BEGIN:VEVENT
DTSTART:20211102T170000Z
DTEND:20211102T200000Z
X-MICROSOFT-CDO-ALLDAYEVENT:FALSE
SUMMARY:2021 Virtual NCW College & Career Expo and Conference
DESCRIPTION:Join us at the Virtual NCW College and Career Expo and Conference event.\n\nIn the virtual expo\, high school and college students can explore hundreds of education and career opportunities in the North Central Washington Region and can drop in anytime from 10:00 am - 1:00 pm. Students can engage with representatives from a variety of businesses\, educational institutions and training programs\, through text-based chats. \n\nStudents can also participate in the region's first career-focused conference that includes live video presentations from local experts.
X-ALT-DESC;FMTTYPE=text/html:<p style="line-height:200%"><span style="font-family:arial\;"><span style="font-size: 12pt\; line-height: 200%\; color: black\;">Join us at the Virtual NCW College and Career Expo and Conference event.</span></span><o:p></o:p></p>\n\n<p style="line-height:200%"><span style="font-family:arial\;"><span style="font-size: 12pt\; line-height: 200%\; color: black\;">In the virtual expo\, high school and college students can explore hundreds of education and career opportunities in the North Central Washington Region and can drop in anytime from 10:00 am - 1:00 pm. Students can engage with representatives from a variety of businesses\, educational institutions and training programs\, through text-based chats.&nbsp\;</span></span><o:p></o:p></p>\n\n<p style="line-height:200%"><span style="font-family:arial\;"><span style="font-size: 12pt\; line-height: 200%\; color: black\;">Students can also participate in the region&rsquo\;s first career-focused conference that includes live video presentations from local experts.</span></span><o:p></o:p></p>\n
LOCATION:Virtual
UID:e.289.7894
SEQUENCE:3
DTSTAMP:20260424T172200Z
URL:https://business.wenatchee.org/events/details/2021-virtual-ncw-college-career-expo-and-conference-7894
END:VEVENT

END:VCALENDAR
