BEGIN:VCALENDAR
VERSION:2.0
PRODID:-//ChamberMaster//Event Calendar 2.0//EN
METHOD:PUBLISH
X-PUBLISHED-TTL:P3D
REFRESH-INTERVAL:P3D
CALSCALE:GREGORIAN
BEGIN:VEVENT
DTSTART:20210127T160000Z
DTEND:20210127T170000Z
X-MICROSOFT-CDO-ALLDAYEVENT:FALSE
SUMMARY:2021 Tax Updates with Cordell\, Neher & Company
DESCRIPTION:Last year brought unprecedented changes for small businesses. Join us on January 27 from 8-9am for an informative webinar presented by Cordell\, Neher & Co.\, PLLC to learn more about the latest changes to the Paycheck Protection Program and Employee Retention Credit\, as well as changes to tax law you'll need to know in  2021 and beyond.  This free event is presented by Cordell\, Neher & Co.\, PLLC and hosted by the Wenatchee Valley Chamber of Commerce and the Wenatchee Downtown Association. \n\n\n\nRegister to receive the Zoom info to join us.
X-ALT-DESC;FMTTYPE=text/html:Last year brought unprecedented changes for small businesses. Join us on January 27 from 8-9am for an informative webinar presented by Cordell\, Neher &amp\; Co.\, PLLC to learn more about the latest changes to the Paycheck Protection Program and Employee Retention Credit\, as well as changes to tax law you&rsquo\;ll need to know in &nbsp\;2021 and beyond. &nbsp\;This free event is presented by Cordell\, Neher &amp\; Co.\, PLLC and hosted by the Wenatchee Valley Chamber of Commerce and the Wenatchee Downtown Association.&nbsp\;<br />\n<br />\nRegister to receive the Zoom info to join us.&nbsp\;
LOCATION:Zoom
UID:e.289.7802
SEQUENCE:3
DTSTAMP:20260424T123605Z
URL:https://business.wenatchee.org/events/details/2021-tax-updates-with-cordell-neher-company-7802
END:VEVENT

END:VCALENDAR
