BEGIN:VCALENDAR
VERSION:2.0
PRODID:-//ChamberMaster//Event Calendar 2.0//EN
METHOD:PUBLISH
X-PUBLISHED-TTL:P3D
REFRESH-INTERVAL:P3D
CALSCALE:GREGORIAN
BEGIN:VEVENT
DTSTART:20200313T190000Z
DTEND:20200314T020000Z
X-MICROSOFT-CDO-ALLDAYEVENT:FALSE
SUMMARY:2020 KPQ Home Expo
DESCRIPTION:HAS BEEN POSTPONED - 3/12/2020\n\nGardening Seminars and home experts all on hand all three days to answer your questions and provide information.  Presented by LocalTel.
X-ALT-DESC;FMTTYPE=text/html:<span style="color:#FF0000\;">HAS BEEN POSTPONED - 3/12/2020</span><br />\nGardening Seminars and home experts all on hand all three days to answer your questions and provide information.&nbsp\; Presented by LocalTel.&nbsp\;
LOCATION:Town Toyota Center
UID:e.289.7708
SEQUENCE:3
DTSTAMP:20260425T033322Z
URL:https://business.wenatchee.org/events/details/2020-kpq-home-expo-7708
END:VEVENT

END:VCALENDAR
