BEGIN:VCALENDAR
VERSION:2.0
PRODID:-//ChamberMaster//Event Calendar 2.0//EN
METHOD:PUBLISH
X-PUBLISHED-TTL:P3D
REFRESH-INTERVAL:P3D
CALSCALE:GREGORIAN
BEGIN:VEVENT
DTSTART:20190714T020000Z
DTEND:20190714T060000Z
X-MICROSOFT-CDO-ALLDAYEVENT:FALSE
SUMMARY:2019 Run with the Cops 5k
DESCRIPTION:Run with the Cops 5K is a fundraising effort for Special Olympics Washington through the Law Enforcement Torch Run Campaign (LETR). Law Enforcement officers volunteer their time and energy on behalf of Special Olympics to raise funds and awareness for Special Olympic athletes worldwide.
X-ALT-DESC;FMTTYPE=text/html:Run with the Cops 5K is a fundraising effort for Special Olympics Washington through the Law Enforcement Torch Run Campaign (LETR). Law Enforcement officers volunteer their time and energy on behalf of Special Olympics to raise funds and awareness for Special Olympic athletes worldwide.
LOCATION:Fred Meyer East Wenatchee
UID:e.289.7319
SEQUENCE:3
DTSTAMP:20260425T162959Z
URL:https://business.wenatchee.org/events/details/2019-run-with-the-cops-5k-7319
END:VEVENT

END:VCALENDAR
