BEGIN:VCALENDAR
VERSION:2.0
PRODID:-//ChamberMaster//Event Calendar 2.0//EN
METHOD:PUBLISH
X-PUBLISHED-TTL:P3D
REFRESH-INTERVAL:P3D
CALSCALE:GREGORIAN
BEGIN:VEVENT
DTSTART:20190925T183000Z
DTEND:20190925T203000Z
X-MICROSOFT-CDO-ALLDAYEVENT:FALSE
SUMMARY:2019 INNOVATOR AWARDS LUNCHEON
DESCRIPTION:Since 2000\, GWATA has recognized local innovation and leadership during the annual Innovator Awards Luncheon. Leaders from across the region come together to celebrate and learn about new technology and innovation in North Central Washington. Every year we accept nominations from the community in five categories: -Entrepreneur -Innovative Use Of Technology In Business -STEM Educator -STEM College Student Innovator -Future Technology Leader (K-12 student) One of GWATA's mission is to inspire ideas and innovation while celebrating those in our community who are pioneering movements in technology\, entrepreneurship and STEM education.
X-ALT-DESC;FMTTYPE=text/html:Since 2000\, GWATA has recognized local innovation and leadership during the annual Innovator Awards Luncheon. Leaders from across the region come together to celebrate and learn about new technology and innovation in North Central Washington. Every year we accept nominations from the community in five categories: -Entrepreneur -Innovative Use Of Technology In Business -STEM Educator -STEM College Student Innovator -Future Technology Leader (K-12 student) One of GWATA&rsquo\;s mission is to inspire ideas and innovation while celebrating those in our community who are pioneering movements in technology\, entrepreneurship and STEM education.
LOCATION:Wenatchee Convention Center 121 North Wenatchee Avenue Wenatchee\, WA 98801
UID:e.289.7438
SEQUENCE:3
DTSTAMP:20260425T134322Z
URL:https://business.wenatchee.org/events/details/2019-innovator-awards-luncheon-7438
END:VEVENT

END:VCALENDAR
