BEGIN:VCALENDAR
VERSION:2.0
PRODID:-//ChamberMaster//Event Calendar 2.0//EN
METHOD:PUBLISH
X-PUBLISHED-TTL:P3D
REFRESH-INTERVAL:P3D
CALSCALE:GREGORIAN
BEGIN:VEVENT
DTSTART:20190212T163000Z
DTEND:20190212T170000Z
X-MICROSOFT-CDO-ALLDAYEVENT:FALSE
SUMMARY:2019 Flywheel Info Session
DESCRIPTION:You are invited to join Tyler Mickey\, Senior Manager at Moss Adams\, and Jenny Rickel\, 2018 Flywheel Fund Manager\, for a Q&A session over coffee and donuts on Tuesday\, February 12. During this 30 minute event\, Tyler and Jenny will give you the legal and accounting background on the Flywheel Angel Network and Investment competition. This will give you the context you need for informing clients\, businesses\, or colleagues about the new investment group in Wenatchee. In addition\, business owners who are looking for funding or may want to compete at the Flywheel Conference will learn from investors what they need to include in their application.
X-ALT-DESC;FMTTYPE=text/html:You are invited to join Tyler Mickey\, Senior Manager at Moss Adams\, and Jenny Rickel\, 2018 Flywheel Fund Manager\, for a Q&amp\;A session over coffee and donuts on Tuesday\, February 12. During this 30 minute event\, Tyler and Jenny will give you the legal and accounting background on the Flywheel Angel Network and Investment competition. This will give you the context you need for informing clients\, businesses\, or colleagues about the new investment group in Wenatchee. In addition\, business owners who are looking for funding or may want to compete at the Flywheel Conference will learn from investors what they need to include in their application.
LOCATION:Confluence Technology Center 285 Technology Center Way
UID:e.289.7064
SEQUENCE:3
DTSTAMP:20260426T005430Z
URL:https://business.wenatchee.org/events/details/2019-flywheel-info-session-7064
END:VEVENT

END:VCALENDAR
