BEGIN:VCALENDAR
VERSION:2.0
PRODID:-//ChamberMaster//Event Calendar 2.0//EN
METHOD:PUBLISH
X-PUBLISHED-TTL:P3D
REFRESH-INTERVAL:P3D
CALSCALE:GREGORIAN
BEGIN:VEVENT
DTSTART:20211006T150000Z
DTEND:20211006T160000Z
X-MICROSOFT-CDO-ALLDAYEVENT:FALSE
SUMMARY:1 Million Cups Wenatchee Valley
DESCRIPTION:This month\, we will be taking a virtual field trip! \n\n\n\nThe NCW Tech Alliance is hosting an informational session at 8:00 am for their Digital Presence Website Program.  Come learn about the program and recommend this to entrepreneurs in our region as well.  \n\n\n\nTo register: http://ow.ly/xZDK50GlyWX\n\n\n\nWe look forward to seeing you there!
X-ALT-DESC;FMTTYPE=text/html:<br />\n<span style="font-size:12px\;"><span style="font-family:arial\;"><span style="color:#000000\;">This month\, we will be taking a virtual field trip!&nbsp\;<br />\n<br />\nThe NCW Tech Alliance is hosting an informational session at 8:00 am for their Digital Presence Website Program.&nbsp\; Come learn about the program and recommend this to entrepreneurs in our region as well.&nbsp\;&nbsp\;<br />\n<br />\nTo register: </span><a href="https://nam11.safelinks.protection.outlook.com/?url=http%3A%2F%2Fow.ly%2FxZDK50GlyWX%3Ffbclid%3DIwAR09dyTUaGfXrMtIrXicDPbiI1Vp2hczEVU62J7ix0SFDu7WCRNYI2o9Dt0&amp\;data=04%7C01%7Cisabela%40wenatchee.org%7C0a74e0e8eaec4cd82b5308d9883c8d20%7C7734b7a79beb47fcadcbf01a289a70cd%7C0%7C0%7C637690615913747576%7CUnknown%7CTWFpbGZsb3d8eyJWIjoiMC4wLjAwMDAiLCJQIjoiV2luMzIiLCJBTiI6Ik1haWwiLCJXVCI6Mn0%3D%7C1000&amp\;sdata=RkPe3UDQNp1ZoRlu2mQjUK37tcS4EDr7JrQWY8wjMmA%3D&amp\;reserved=0" target="_blank"><span style="color:#000000\;">http://ow.ly/xZDK50GlyWX</span></a><br />\n<br />\n<span style="color:#000000\;">We look forward to seeing you there!</span></span></span><br />\n&nbsp\;
LOCATION:Zoom
UID:e.289.7797
SEQUENCE:3
DTSTAMP:20260424T152546Z
URL:https://business.wenatchee.org/events/details/1-million-cups-wenatchee-valley-10-06-2021-7797
END:VEVENT

END:VCALENDAR
