BEGIN:VCALENDAR
VERSION:2.0
PRODID:-//ChamberMaster//Event Calendar 2.0//EN
METHOD:PUBLISH
X-PUBLISHED-TTL:P3D
REFRESH-INTERVAL:P3D
CALSCALE:GREGORIAN
BEGIN:VEVENT
DTSTART:20210901T150000Z
DTEND:20210901T160000Z
X-MICROSOFT-CDO-ALLDAYEVENT:FALSE
SUMMARY:1 Million Cups Wenatchee Valley
DESCRIPTION:Join us on Zoom! On the first Wednesday of every month\, we hear from two entrepreneurs and find out how we\, as a community\, can support them\, empower them\, and connect them to resources so they can grow their business. Bring your own coffee and join us for a great conversation! Registration is required: 1mcwenatcheevalley.eventbrite.com
X-ALT-DESC;FMTTYPE=text/html:<span class="JsGRdQ" style="color: rgb(0\, 0\, 0)\;">Join us on Zoom! On the first Wednesday of every month\, we hear from two entrepreneurs and find out how we\, as a community\, can support them\, empower them\, and connect them to resources so they can grow their business. Bring your own coffee and join us for a great conversation! Registration is required: 1mcwenatcheevalley.eventbrite.com</span>
LOCATION:Zoom
UID:e.289.7796
SEQUENCE:3
DTSTAMP:20260424T135521Z
URL:https://business.wenatchee.org/events/details/1-million-cups-wenatchee-valley-09-01-2021-7796
END:VEVENT

END:VCALENDAR
