BEGIN:VCALENDAR
VERSION:2.0
PRODID:-//ChamberMaster//Event Calendar 2.0//EN
METHOD:PUBLISH
X-PUBLISHED-TTL:P3D
REFRESH-INTERVAL:P3D
CALSCALE:GREGORIAN
BEGIN:VEVENT
DTSTART:20210303T160000Z
DTEND:20210303T170000Z
X-MICROSOFT-CDO-ALLDAYEVENT:FALSE
SUMMARY:1 Million Cups Wenatchee Valley
DESCRIPTION:Join us virtually! On the first Wednesday of every month\, we hear from two entrepreneurs and find out how we\, as a community\, ca support them\, empower them\, and connect them to resources so they can grow their business. Bring your own coffee and join us for a great conversation!\n\n\n\nRegistration is now required to get the Zoom link - visit 1mcwenatcheevalley.eventbrite.com
X-ALT-DESC;FMTTYPE=text/html:Join us virtually! On the first Wednesday of every month\, we hear from two entrepreneurs and find out how we\, as a community\, ca support them\, empower them\, and connect them to resources so they can grow their business. Bring your own coffee and join us for a great conversation!<br />\n<br />\nRegistration is now required to get the Zoom link - visit 1mcwenatcheevalley.eventbrite.com
LOCATION:Zoom
UID:e.289.7790
SEQUENCE:3
DTSTAMP:20260422T202216Z
URL:https://business.wenatchee.org/events/details/1-million-cups-wenatchee-valley-03-03-2021-7790
END:VEVENT

END:VCALENDAR
