BEGIN:VCALENDAR
VERSION:2.0
PRODID:-//ChamberMaster//Event Calendar 2.0//EN
METHOD:PUBLISH
X-PUBLISHED-TTL:P3D
REFRESH-INTERVAL:P3D
CALSCALE:GREGORIAN
BEGIN:VEVENT
DTSTART:20200401T144500Z
DTEND:20200401T160000Z
X-MICROSOFT-CDO-ALLDAYEVENT:FALSE
SUMMARY:1 Million Cups CANCELLED -
DESCRIPTION:APRIL EVENT CANCELLED\n\n\n\nYou're invited to attend the monthly 1 Million Cups events in our valley. Entrepreneurs discover solutions and thrive when they collaborate over a million cups of coffee. Come join this supportive\, dynamic community and hear from two businesses that are between 1-5 years old. Discover how we can help move them forward in a positive environment\, fueled by caffeine. Coffee provided by Mela Coffee Roasting. \n\nFor more information: \n\nhttps://www.1millioncups.com/wenatcheevalley
X-ALT-DESC;FMTTYPE=text/html:APRIL EVENT CANCELLED<br />\n<br />\nYou&#39\;re invited to attend the monthly 1 Million Cups events in our valley. Entrepreneurs discover solutions and thrive when they collaborate over a million cups of coffee. Come join this supportive\, dynamic community and hear from two businesses that are between 1-5 years old. Discover how we can help move them forward in a positive environment\, fueled by caffeine. Coffee provided by Mela Coffee Roasting.&nbsp\;<br />\nFor more information:&nbsp\;<br />\n<span style="color:#1F497D\;"><span style="font-family:century gothic\,sans-serif\;"><a href="https://www.1millioncups.com/wenatcheevalley">https://www.1millioncups.com/wenatcheevalley</a></span></span><br />\n&nbsp\;
LOCATION:Wenatchee Valley Chamber of Commerce
UID:e.289.7546
SEQUENCE:3
DTSTAMP:20260425T014644Z
URL:https://business.wenatchee.org/events/details/1-million-cups-cancelled-7546
END:VEVENT

END:VCALENDAR
