BEGIN:VCALENDAR
VERSION:2.0
PRODID:-//ChamberMaster//Event Calendar 2.0//EN
METHOD:PUBLISH
X-PUBLISHED-TTL:P3D
REFRESH-INTERVAL:P3D
CALSCALE:GREGORIAN
BEGIN:VEVENT
DTSTART:20190703T144500Z
DTEND:20190703T160000Z
X-MICROSOFT-CDO-ALLDAYEVENT:FALSE
SUMMARY:1 Million Cups
DESCRIPTION:You're invited to attend the monthly 1 Million Cups events in our valley. Entrepreneurs discover solutions and thrive when they collaborate over a million cups of coffee. Come join this supportive\, dynamic community and hear from two businesses that are between 1-5 years old\, Ali Wells with Wenatchee Family Fitness and Willow Merritt from Yeti Chocolates. Discover how we can help move them forward in a positive environment\, fueled by caffeine. Coffee provided by Mela Coffee Roasting.
X-ALT-DESC;FMTTYPE=text/html:You&#39\;re invited to attend the monthly 1 Million Cups events in our valley. Entrepreneurs discover solutions and thrive when they collaborate over a million cups of coffee. Come join this supportive\, dynamic community and hear from two businesses that are between 1-5 years old\, Ali Wells with <strong>Wenatchee Family Fitness </strong>and Willow Merritt from <strong>Yeti Chocolates</strong>.&nbsp\;Discover how we can help move them forward in a positive environment\, fueled by caffeine. Coffee provided by&nbsp\;Mela&nbsp\;Coffee Roasting.&nbsp\;
LOCATION:Wenatchee Valley Chamber of Commerce 137 N. Wenatchee Ave
UID:e.289.6799
SEQUENCE:3
DTSTAMP:20260425T165121Z
URL:https://business.wenatchee.org/events/details/1-million-cups-07-03-2019-6799
END:VEVENT

END:VCALENDAR
