BEGIN:VCALENDAR
VERSION:2.0
PRODID:-//ChamberMaster//Event Calendar 2.0//EN
METHOD:PUBLISH
X-PUBLISHED-TTL:P3D
REFRESH-INTERVAL:P3D
CALSCALE:GREGORIAN
BEGIN:VEVENT
DTSTART:20190605T144500Z
DTEND:20190605T160000Z
X-MICROSOFT-CDO-ALLDAYEVENT:FALSE
SUMMARY:1 Million Cups
DESCRIPTION:You're invited to attend the monthly 1 Million Cups events in our valley. Entrepreneurs discover solutions and thrive when they collaborate over a million cups of coffee. Come join this supportive\, dynamic community and hear from two businesses that are between 1-5 years old\, Shon Smith with 108 Lounge and Samantha Peterson from Everyday Strength. Discover how we can help move them forward in a positive environment\, fueled by caffeine. Coffee provided by Mela Coffee Roasting.
X-ALT-DESC;FMTTYPE=text/html:You&#39\;re invited to attend the monthly 1 Million Cups events in our valley. Entrepreneurs discover solutions and thrive when they collaborate over a million cups of coffee. Come join this supportive\, dynamic community and hear from two businesses that are between 1-5 years old\, Shon Smith with <strong>108 Lounge</strong> and Samantha Peterson from<strong> Everyday Strength</strong>. Discover how we can help move them forward in a positive environment\, fueled by caffeine. Coffee provided by&nbsp\;Mela&nbsp\;Coffee Roasting.&nbsp\;
LOCATION:Wenatchee Valley Chamber of Commerce 137 N. Wenatchee Ave
UID:e.289.6798
SEQUENCE:3
DTSTAMP:20260425T181148Z
URL:https://business.wenatchee.org/events/details/1-million-cups-06-05-2019-6798
END:VEVENT

END:VCALENDAR
